BEGIN:VCALENDAR
VERSION:2.0
PRODID:-//Periwinkles - ECPv6.15.20//NONSGML v1.0//EN
CALSCALE:GREGORIAN
METHOD:PUBLISH
X-WR-CALNAME:Periwinkles
X-ORIGINAL-URL:https://www.periwinklesinc.com
X-WR-CALDESC:Events for Periwinkles
REFRESH-INTERVAL;VALUE=DURATION:PT1H
X-Robots-Tag:noindex
X-PUBLISHED-TTL:PT1H
BEGIN:VTIMEZONE
TZID:America/New_York
BEGIN:DAYLIGHT
TZOFFSETFROM:-0500
TZOFFSETTO:-0400
TZNAME:EDT
DTSTART:20250309T070000
END:DAYLIGHT
BEGIN:STANDARD
TZOFFSETFROM:-0400
TZOFFSETTO:-0500
TZNAME:EST
DTSTART:20251102T060000
END:STANDARD
BEGIN:DAYLIGHT
TZOFFSETFROM:-0500
TZOFFSETTO:-0400
TZNAME:EDT
DTSTART:20260308T070000
END:DAYLIGHT
BEGIN:STANDARD
TZOFFSETFROM:-0400
TZOFFSETTO:-0500
TZNAME:EST
DTSTART:20261101T060000
END:STANDARD
BEGIN:DAYLIGHT
TZOFFSETFROM:-0500
TZOFFSETTO:-0400
TZNAME:EDT
DTSTART:20270314T070000
END:DAYLIGHT
BEGIN:STANDARD
TZOFFSETFROM:-0400
TZOFFSETTO:-0500
TZNAME:EST
DTSTART:20271107T060000
END:STANDARD
END:VTIMEZONE
BEGIN:VEVENT
DTSTART;TZID=America/New_York:20260210T180000
DTEND;TZID=America/New_York:20260210T203000
DTSTAMP:20260420T004643
CREATED:20251014T142949Z
LAST-MODIFIED:20251015T133134Z
UID:10000006-1770746400-1770755400@www.periwinklesinc.com
SUMMARY:Learn Mahjong
DESCRIPTION:Learn Mahjong at Periwinkles Food Shoppe!\nThis lifelong game of skill and luck is the best way to keep your brain young. Taught by two experienced instructors\, this 4-week series teaches you the game and combines it with guided play so that you can confidently play with others. \nDates & Times \nFour Tuesdays from 6-8:30pm \n\nJanuary 13 & 20\nFebruary 3 & 10\n\nClick here to view/download event flyer.
URL:https://www.periwinklesinc.com/event/learn-mahjong/2026-02-10/
ATTACH;FMTTYPE=image/jpeg:https://www.periwinklesinc.com/wp-content/uploads/2025/10/Mahj_at_Periwinkles_featuredimage.jpg
END:VEVENT
BEGIN:VEVENT
DTSTART;TZID=America/New_York:20260203T180000
DTEND;TZID=America/New_York:20260203T203000
DTSTAMP:20260420T004643
CREATED:20251014T142949Z
LAST-MODIFIED:20251015T133134Z
UID:10000005-1770141600-1770150600@www.periwinklesinc.com
SUMMARY:Learn Mahjong
DESCRIPTION:Learn Mahjong at Periwinkles Food Shoppe!\nThis lifelong game of skill and luck is the best way to keep your brain young. Taught by two experienced instructors\, this 4-week series teaches you the game and combines it with guided play so that you can confidently play with others. \nDates & Times \nFour Tuesdays from 6-8:30pm \n\nJanuary 13 & 20\nFebruary 3 & 10\n\nClick here to view/download event flyer.
URL:https://www.periwinklesinc.com/event/learn-mahjong/2026-02-03/
ATTACH;FMTTYPE=image/jpeg:https://www.periwinklesinc.com/wp-content/uploads/2025/10/Mahj_at_Periwinkles_featuredimage.jpg
END:VEVENT
BEGIN:VEVENT
DTSTART;TZID=America/New_York:20260120T180000
DTEND;TZID=America/New_York:20260120T203000
DTSTAMP:20260420T004643
CREATED:20251014T142949Z
LAST-MODIFIED:20251015T133134Z
UID:10000004-1768932000-1768941000@www.periwinklesinc.com
SUMMARY:Learn Mahjong
DESCRIPTION:Learn Mahjong at Periwinkles Food Shoppe!\nThis lifelong game of skill and luck is the best way to keep your brain young. Taught by two experienced instructors\, this 4-week series teaches you the game and combines it with guided play so that you can confidently play with others. \nDates & Times \nFour Tuesdays from 6-8:30pm \n\nJanuary 13 & 20\nFebruary 3 & 10\n\nClick here to view/download event flyer.
URL:https://www.periwinklesinc.com/event/learn-mahjong/2026-01-20/
ATTACH;FMTTYPE=image/jpeg:https://www.periwinklesinc.com/wp-content/uploads/2025/10/Mahj_at_Periwinkles_featuredimage.jpg
END:VEVENT
BEGIN:VEVENT
DTSTART;TZID=America/New_York:20260113T180000
DTEND;TZID=America/New_York:20260113T203000
DTSTAMP:20260420T004643
CREATED:20251014T142949Z
LAST-MODIFIED:20251015T133134Z
UID:10000003-1768327200-1768336200@www.periwinklesinc.com
SUMMARY:Learn Mahjong
DESCRIPTION:Learn Mahjong at Periwinkles Food Shoppe!\nThis lifelong game of skill and luck is the best way to keep your brain young. Taught by two experienced instructors\, this 4-week series teaches you the game and combines it with guided play so that you can confidently play with others. \nDates & Times \nFour Tuesdays from 6-8:30pm \n\nJanuary 13 & 20\nFebruary 3 & 10\n\nClick here to view/download event flyer.
URL:https://www.periwinklesinc.com/event/learn-mahjong/2026-01-13/
ATTACH;FMTTYPE=image/jpeg:https://www.periwinklesinc.com/wp-content/uploads/2025/10/Mahj_at_Periwinkles_featuredimage.jpg
END:VEVENT
END:VCALENDAR